BEGIN:VCALENDAR
VERSION:2.0
PRODID:-//WP Bakery Group USA Industrial Bakery Equipment - ECPv6.15.20//NONSGML v1.0//EN
CALSCALE:GREGORIAN
METHOD:PUBLISH
X-WR-CALNAME:WP Bakery Group USA Industrial Bakery Equipment
X-ORIGINAL-URL:https://www.wpbakerygroupusa.com
X-WR-CALDESC:Events for WP Bakery Group USA Industrial Bakery Equipment
REFRESH-INTERVAL;VALUE=DURATION:PT1H
X-Robots-Tag:noindex
X-PUBLISHED-TTL:PT1H
BEGIN:VTIMEZONE
TZID:America/New_York
BEGIN:DAYLIGHT
TZOFFSETFROM:-0500
TZOFFSETTO:-0400
TZNAME:EDT
DTSTART:20150308T070000
END:DAYLIGHT
BEGIN:STANDARD
TZOFFSETFROM:-0400
TZOFFSETTO:-0500
TZNAME:EST
DTSTART:20151101T060000
END:STANDARD
BEGIN:DAYLIGHT
TZOFFSETFROM:-0500
TZOFFSETTO:-0400
TZNAME:EDT
DTSTART:20160313T070000
END:DAYLIGHT
BEGIN:STANDARD
TZOFFSETFROM:-0400
TZOFFSETTO:-0500
TZNAME:EST
DTSTART:20161106T060000
END:STANDARD
BEGIN:DAYLIGHT
TZOFFSETFROM:-0500
TZOFFSETTO:-0400
TZNAME:EDT
DTSTART:20170312T070000
END:DAYLIGHT
BEGIN:STANDARD
TZOFFSETFROM:-0400
TZOFFSETTO:-0500
TZNAME:EST
DTSTART:20171105T060000
END:STANDARD
BEGIN:DAYLIGHT
TZOFFSETFROM:-0500
TZOFFSETTO:-0400
TZNAME:EDT
DTSTART:20180311T070000
END:DAYLIGHT
BEGIN:STANDARD
TZOFFSETFROM:-0400
TZOFFSETTO:-0500
TZNAME:EST
DTSTART:20181104T060000
END:STANDARD
BEGIN:DAYLIGHT
TZOFFSETFROM:-0500
TZOFFSETTO:-0400
TZNAME:EDT
DTSTART:20190310T070000
END:DAYLIGHT
BEGIN:STANDARD
TZOFFSETFROM:-0400
TZOFFSETTO:-0500
TZNAME:EST
DTSTART:20191103T060000
END:STANDARD
BEGIN:DAYLIGHT
TZOFFSETFROM:-0500
TZOFFSETTO:-0400
TZNAME:EDT
DTSTART:20200308T070000
END:DAYLIGHT
BEGIN:STANDARD
TZOFFSETFROM:-0400
TZOFFSETTO:-0500
TZNAME:EST
DTSTART:20201101T060000
END:STANDARD
BEGIN:DAYLIGHT
TZOFFSETFROM:-0500
TZOFFSETTO:-0400
TZNAME:EDT
DTSTART:20210314T070000
END:DAYLIGHT
BEGIN:STANDARD
TZOFFSETFROM:-0400
TZOFFSETTO:-0500
TZNAME:EST
DTSTART:20211107T060000
END:STANDARD
BEGIN:DAYLIGHT
TZOFFSETFROM:-0500
TZOFFSETTO:-0400
TZNAME:EDT
DTSTART:20220313T070000
END:DAYLIGHT
BEGIN:STANDARD
TZOFFSETFROM:-0400
TZOFFSETTO:-0500
TZNAME:EST
DTSTART:20221106T060000
END:STANDARD
BEGIN:DAYLIGHT
TZOFFSETFROM:-0500
TZOFFSETTO:-0400
TZNAME:EDT
DTSTART:20230312T070000
END:DAYLIGHT
BEGIN:STANDARD
TZOFFSETFROM:-0400
TZOFFSETTO:-0500
TZNAME:EST
DTSTART:20231105T060000
END:STANDARD
END:VTIMEZONE
BEGIN:VEVENT
DTSTART;VALUE=DATE:20220918
DTEND;VALUE=DATE:20220922
DTSTAMP:20260420T032143
CREATED:20220111T021052Z
LAST-MODIFIED:20220203T200855Z
UID:3667-1663459200-1663804799@www.wpbakerygroupusa.com
SUMMARY:IBIE 2022
DESCRIPTION:Bakers! Join us in September in Las Vegas at IBIE 2022 for an immersive WP experience!
URL:https://www.wpbakerygroupusa.com/event/ibie-2022/
LOCATION:The Las Vegas Convention Center\, 3150 Paradise Road\, Las Vegas\, NV\, 89109
CATEGORIES:All Events
ATTACH;FMTTYPE=image/jpeg:https://www.wpbakerygroupusa.com/wp-content/uploads/2022/01/AdobeStock_116754452-WP-IBIE@2x.jpg
GEO:36.1311282;-115.1511192
X-APPLE-STRUCTURED-LOCATION;VALUE=URI;X-ADDRESS=The Las Vegas Convention Center 3150 Paradise Road Las Vegas NV 89109;X-APPLE-RADIUS=500;X-TITLE=3150 Paradise Road:geo:-115.1511192,36.1311282
END:VEVENT
BEGIN:VEVENT
DTSTART;TZID=America/New_York:20190908T080000
DTEND;TZID=America/New_York:20190911T170000
DTSTAMP:20260420T032143
CREATED:20180814T232542Z
LAST-MODIFIED:20191029T222349Z
UID:2976-1567929600-1568221200@www.wpbakerygroupusa.com
SUMMARY:IBIE 2019
DESCRIPTION:Join us in September in Las Vegas at IBIE 2019.
URL:https://www.wpbakerygroupusa.com/event/ibie-2019/
LOCATION:The Las Vegas Convention Center\, 3150 Paradise Road\, Las Vegas\, NV\, 89109
CATEGORIES:All Events
GEO:36.1311282;-115.1511192
X-APPLE-STRUCTURED-LOCATION;VALUE=URI;X-ADDRESS=The Las Vegas Convention Center 3150 Paradise Road Las Vegas NV 89109;X-APPLE-RADIUS=500;X-TITLE=3150 Paradise Road:geo:-115.1511192,36.1311282
END:VEVENT
BEGIN:VEVENT
DTSTART;TZID=America/New_York:20190304T080000
DTEND;TZID=America/New_York:20190307T170000
DTSTAMP:20260420T032143
CREATED:20180814T224322Z
LAST-MODIFIED:20180814T224522Z
UID:2972-1551686400-1551978000@www.wpbakerygroupusa.com
SUMMARY:The Pizza and Artisan Bakery Expo 2019
DESCRIPTION:Join us in Las Vegas for the International Pizza Expo and the Artisan Bakery Expo. \nMarch 4-7\, 2019
URL:https://www.wpbakerygroupusa.com/event/the-international-pizza-expo-2/
LOCATION:The Las Vegas Convention Center\, 3150 Paradise Road\, Las Vegas\, NV\, 89109
CATEGORIES:All Events
GEO:36.1311282;-115.1511192
X-APPLE-STRUCTURED-LOCATION;VALUE=URI;X-ADDRESS=The Las Vegas Convention Center 3150 Paradise Road Las Vegas NV 89109;X-APPLE-RADIUS=500;X-TITLE=3150 Paradise Road:geo:-115.1511192,36.1311282
END:VEVENT
BEGIN:VEVENT
DTSTART;TZID=America/New_York:20180320T080000
DTEND;TZID=America/New_York:20180322T170000
DTSTAMP:20260420T032143
CREATED:20171107T234940Z
LAST-MODIFIED:20180322T034700Z
UID:2305-1521532800-1521738000@www.wpbakerygroupusa.com
SUMMARY:The International Pizza Expo
DESCRIPTION:Join us in Las Vegas for the International Pizza Expo \nMarch 20-22\, 2018
URL:https://www.wpbakerygroupusa.com/event/the-international-pizza-expo/
LOCATION:The Las Vegas Convention Center\, 3150 Paradise Road\, Las Vegas\, NV\, 89109
CATEGORIES:All Events
GEO:36.1311282;-115.1511192
X-APPLE-STRUCTURED-LOCATION;VALUE=URI;X-ADDRESS=The Las Vegas Convention Center 3150 Paradise Road Las Vegas NV 89109;X-APPLE-RADIUS=500;X-TITLE=3150 Paradise Road:geo:-115.1511192,36.1311282
END:VEVENT
BEGIN:VEVENT
DTSTART;VALUE=DATE:20170328
DTEND;VALUE=DATE:20170331
DTSTAMP:20260420T032143
CREATED:20160208T065252Z
LAST-MODIFIED:20170119T195935Z
UID:1813-1490659200-1490918399@www.wpbakerygroupusa.com
SUMMARY:International Pizza Expo 2017
DESCRIPTION:Join us in Las Vegas for the International Pizza Expo \nMarch 28-30\, 2017
URL:https://www.wpbakerygroupusa.com/event/international-pizza-expo-2017/
LOCATION:The Las Vegas Convention Center\, 3150 Paradise Road\, Las Vegas\, NV\, 89109
CATEGORIES:All Events
GEO:36.1311282;-115.1511192
X-APPLE-STRUCTURED-LOCATION;VALUE=URI;X-ADDRESS=The Las Vegas Convention Center 3150 Paradise Road Las Vegas NV 89109;X-APPLE-RADIUS=500;X-TITLE=3150 Paradise Road:geo:-115.1511192,36.1311282
END:VEVENT
BEGIN:VEVENT
DTSTART;TZID=America/New_York:20161008T080000
DTEND;TZID=America/New_York:20161011T170000
DTSTAMP:20260420T032143
CREATED:20151207T215827Z
LAST-MODIFIED:20151207T215827Z
UID:1799-1475913600-1476205200@www.wpbakerygroupusa.com
SUMMARY:IBIE 2016
DESCRIPTION:Join us in October in Las Vegas at IBIE 2016.
URL:https://www.wpbakerygroupusa.com/event/ibie-2016/
LOCATION:The Las Vegas Convention Center\, 3150 Paradise Road\, Las Vegas\, NV\, 89109
CATEGORIES:All Events
GEO:36.1311282;-115.1511192
X-APPLE-STRUCTURED-LOCATION;VALUE=URI;X-ADDRESS=The Las Vegas Convention Center 3150 Paradise Road Las Vegas NV 89109;X-APPLE-RADIUS=500;X-TITLE=3150 Paradise Road:geo:-115.1511192,36.1311282
END:VEVENT
END:VCALENDAR