BEGIN:VCALENDAR
VERSION:2.0
PRODID:-//WP Bakery Group USA Industrial Bakery Equipment - ECPv6.15.20//NONSGML v1.0//EN
CALSCALE:GREGORIAN
METHOD:PUBLISH
X-ORIGINAL-URL:https://www.wpbakerygroupusa.com
X-WR-CALDESC:Events for WP Bakery Group USA Industrial Bakery Equipment
REFRESH-INTERVAL;VALUE=DURATION:PT1H
X-Robots-Tag:noindex
X-PUBLISHED-TTL:PT1H
BEGIN:VTIMEZONE
TZID:America/Los_Angeles
BEGIN:DAYLIGHT
TZOFFSETFROM:-0800
TZOFFSETTO:-0700
TZNAME:PDT
DTSTART:20220313T100000
END:DAYLIGHT
BEGIN:STANDARD
TZOFFSETFROM:-0700
TZOFFSETTO:-0800
TZNAME:PST
DTSTART:20221106T090000
END:STANDARD
BEGIN:DAYLIGHT
TZOFFSETFROM:-0800
TZOFFSETTO:-0700
TZNAME:PDT
DTSTART:20230312T100000
END:DAYLIGHT
BEGIN:STANDARD
TZOFFSETFROM:-0700
TZOFFSETTO:-0800
TZNAME:PST
DTSTART:20231105T090000
END:STANDARD
BEGIN:DAYLIGHT
TZOFFSETFROM:-0800
TZOFFSETTO:-0700
TZNAME:PDT
DTSTART:20240310T100000
END:DAYLIGHT
BEGIN:STANDARD
TZOFFSETFROM:-0700
TZOFFSETTO:-0800
TZNAME:PST
DTSTART:20241103T090000
END:STANDARD
END:VTIMEZONE
BEGIN:VEVENT
DTSTART;TZID=America/Los_Angeles:20231022T093000
DTEND;TZID=America/Los_Angeles:20231026T170000
DTSTAMP:20260420T031844
CREATED:20221017T175127Z
LAST-MODIFIED:20221017T175127Z
UID:3806-1697967000-1698339600@www.wpbakerygroupusa.com
SUMMARY:iba 2023
DESCRIPTION:Join WP in Munich for iba 2023\, the world’s leading trade fair for the baking and confectionery industry.  \nOpening times\nSUNDAY – WEDNESDAY\n09:30 A.M. – 06:00 P.M.\nTHURSDAY\n09:30 A.M. – 05:00 P.M.
URL:https://www.wpbakerygroupusa.com/event/iba-2023/
LOCATION:Fairground Messe München\, Munich\, Germany
ATTACH;FMTTYPE=image/jpeg:https://www.wpbakerygroupusa.com/wp-content/uploads/2022/10/iba-2023-event@2x.jpg
GEO:48.1351253;11.5819806
END:VEVENT
END:VCALENDAR