BEGIN:VCALENDAR
VERSION:2.0
PRODID:-//WP Bakery Group USA Industrial Bakery Equipment - ECPv6.15.20//NONSGML v1.0//EN
CALSCALE:GREGORIAN
METHOD:PUBLISH
X-ORIGINAL-URL:https://www.wpbakerygroupusa.com
X-WR-CALDESC:Events for WP Bakery Group USA Industrial Bakery Equipment
REFRESH-INTERVAL;VALUE=DURATION:PT1H
X-Robots-Tag:noindex
X-PUBLISHED-TTL:PT1H
BEGIN:VTIMEZONE
TZID:America/New_York
BEGIN:DAYLIGHT
TZOFFSETFROM:-0500
TZOFFSETTO:-0400
TZNAME:EDT
DTSTART:20180311T070000
END:DAYLIGHT
BEGIN:STANDARD
TZOFFSETFROM:-0400
TZOFFSETTO:-0500
TZNAME:EST
DTSTART:20181104T060000
END:STANDARD
BEGIN:DAYLIGHT
TZOFFSETFROM:-0500
TZOFFSETTO:-0400
TZNAME:EDT
DTSTART:20190310T070000
END:DAYLIGHT
BEGIN:STANDARD
TZOFFSETFROM:-0400
TZOFFSETTO:-0500
TZNAME:EST
DTSTART:20191103T060000
END:STANDARD
BEGIN:DAYLIGHT
TZOFFSETFROM:-0500
TZOFFSETTO:-0400
TZNAME:EDT
DTSTART:20200308T070000
END:DAYLIGHT
BEGIN:STANDARD
TZOFFSETFROM:-0400
TZOFFSETTO:-0500
TZNAME:EST
DTSTART:20201101T060000
END:STANDARD
BEGIN:DAYLIGHT
TZOFFSETFROM:-0500
TZOFFSETTO:-0400
TZNAME:EDT
DTSTART:20210314T070000
END:DAYLIGHT
BEGIN:STANDARD
TZOFFSETFROM:-0400
TZOFFSETTO:-0500
TZNAME:EST
DTSTART:20211107T060000
END:STANDARD
BEGIN:DAYLIGHT
TZOFFSETFROM:-0500
TZOFFSETTO:-0400
TZNAME:EDT
DTSTART:20220313T070000
END:DAYLIGHT
BEGIN:STANDARD
TZOFFSETFROM:-0400
TZOFFSETTO:-0500
TZNAME:EST
DTSTART:20221106T060000
END:STANDARD
BEGIN:DAYLIGHT
TZOFFSETFROM:-0500
TZOFFSETTO:-0400
TZNAME:EDT
DTSTART:20230312T070000
END:DAYLIGHT
BEGIN:STANDARD
TZOFFSETFROM:-0400
TZOFFSETTO:-0500
TZNAME:EST
DTSTART:20231105T060000
END:STANDARD
END:VTIMEZONE
BEGIN:VEVENT
DTSTART;TZID=America/New_York:20190908T080000
DTEND;TZID=America/New_York:20190911T170000
DTSTAMP:20260421T032227
CREATED:20180814T232542Z
LAST-MODIFIED:20191029T222349Z
UID:2976-1567929600-1568221200@www.wpbakerygroupusa.com
SUMMARY:IBIE 2019
DESCRIPTION:Join us in September in Las Vegas at IBIE 2019.
URL:https://www.wpbakerygroupusa.com/event/ibie-2019/
LOCATION:The Las Vegas Convention Center\, 3150 Paradise Road\, Las Vegas\, NV\, 89109
CATEGORIES:All Events
GEO:36.1311282;-115.1511192
X-APPLE-STRUCTURED-LOCATION;VALUE=URI;X-ADDRESS=The Las Vegas Convention Center 3150 Paradise Road Las Vegas NV 89109;X-APPLE-RADIUS=500;X-TITLE=3150 Paradise Road:geo:-115.1511192,36.1311282
END:VEVENT
BEGIN:VEVENT
DTSTART;VALUE=DATE:20210517
DTEND;VALUE=DATE:20211030
DTSTAMP:20260421T032227
CREATED:20210309T044426Z
LAST-MODIFIED:20210309T044612Z
UID:3505-1621209600-1635551999@www.wpbakerygroupusa.com
SUMMARY:Johnson & Wales Symposium on Bread – On the Rise: The Future of Bread
DESCRIPTION:The Johnson & Wales University Symposium on Bread is an academic symposium dedicated to the future of bread. This year’s symposium will be virtual\, featuring an all-star array of speakers and presentations. Beginning on May 17\, 2021\, the symposium – entitled “On the Rise: The Future of Bread” – will include new presentations every week for 24 weeks.
URL:https://www.wpbakerygroupusa.com/event/johnson-wales-symposium-on-bread-on-the-rise-the-future-of-bread/
CATEGORIES:All Events
END:VEVENT
BEGIN:VEVENT
DTSTART;VALUE=DATE:20220918
DTEND;VALUE=DATE:20220922
DTSTAMP:20260421T032227
CREATED:20220111T021052Z
LAST-MODIFIED:20220203T200855Z
UID:3667-1663459200-1663804799@www.wpbakerygroupusa.com
SUMMARY:IBIE 2022
DESCRIPTION:Bakers! Join us in September in Las Vegas at IBIE 2022 for an immersive WP experience!
URL:https://www.wpbakerygroupusa.com/event/ibie-2022/
LOCATION:The Las Vegas Convention Center\, 3150 Paradise Road\, Las Vegas\, NV\, 89109
CATEGORIES:All Events
ATTACH;FMTTYPE=image/jpeg:https://www.wpbakerygroupusa.com/wp-content/uploads/2022/01/AdobeStock_116754452-WP-IBIE@2x.jpg
GEO:36.1311282;-115.1511192
X-APPLE-STRUCTURED-LOCATION;VALUE=URI;X-ADDRESS=The Las Vegas Convention Center 3150 Paradise Road Las Vegas NV 89109;X-APPLE-RADIUS=500;X-TITLE=3150 Paradise Road:geo:-115.1511192,36.1311282
END:VEVENT
END:VCALENDAR